BEGIN:VCALENDAR
VERSION:2.0
PRODID:-//wp-events-plugin.com//7.2.3.1//EN
BEGIN:VEVENT
UID:43@mdaudit.com
DTSTART;VALUE=DATE:20260514
DTEND;VALUE=DATE:20260516
DTSTAMP:20260210T072811Z
URL:https://mdaudit.com/events/vhima-2026/
SUMMARY:VHIMA 2026
DESCRIPTION:
ATTACH;FMTTYPE=image/jpeg:https://mdaudit.com/wp-content/uploads/2026/02/a
 hima_logo.webp
END:VEVENT
END:VCALENDAR