BEGIN:VCALENDAR
VERSION:2.0
PRODID:-//wp-events-plugin.com//7.2.3.1//EN
BEGIN:VEVENT
UID:54@mdaudit.com
DTSTART;VALUE=DATE:20260605
DTEND;VALUE=DATE:20260606
DTSTAMP:20260302T082505Z
URL:https://mdaudit.com/events/seattle-regional-healthcare-compliance-conf
 erence/
SUMMARY:Seattle Regional Healthcare Compliance Conference
DESCRIPTION:
ATTACH;FMTTYPE=image/jpeg:https://mdaudit.com/wp-content/uploads/2026/02/h
 cca_logo.webp
LOCATION:Seattle Airport Marriott\, 3201 South 176th Street\, Seattle\, Was
 hington\, 98188\, United States
GEO:47.444171;-122.290786
X-APPLE-STRUCTURED-LOCATION;VALUE=URI;X-ADDRESS=3201 South 176th Street\, S
 eattle\, Washington\, 98188\, United States;X-APPLE-RADIUS=100;X-TITLE=Sea
 ttle Airport Marriott:geo:47.444171,-122.290786
END:VEVENT
END:VCALENDAR