BEGIN:VCALENDAR
VERSION:2.0
PRODID:-//wp-events-plugin.com//7.2.3.1//EN
BEGIN:VEVENT
UID:58@mdaudit.com
DTSTART;VALUE=DATE:20260622
DTEND;VALUE=DATE:20260625
DTSTAMP:20260302T084133Z
URL:https://mdaudit.com/events/nchima-schima/
SUMMARY:NCHIMA/SCHIMA
DESCRIPTION:
ATTACH;FMTTYPE=image/jpeg:https://mdaudit.com/wp-content/uploads/2026/02/a
 hima_logo.webp
LOCATION:Embassy Suites by Hilton Charlotte Concord Golf Resort & Spa\, 540
 0 John Q. Hammons Dr\, Concord\, North Carolina\, 28027\, United States
GEO:35.365323;-80.701516
X-APPLE-STRUCTURED-LOCATION;VALUE=URI;X-ADDRESS=5400 John Q. Hammons Dr\, C
 oncord\, North Carolina\, 28027\, United States;X-APPLE-RADIUS=100;X-TITLE
 =Embassy Suites by Hilton Charlotte Concord Golf Resort & Spa:geo:35.36532
 3,-80.701516
END:VEVENT
END:VCALENDAR