BEGIN:VCALENDAR
VERSION:2.0
PRODID:-//wp-events-plugin.com//7.2.3.1//EN
BEGIN:VEVENT
UID:61@mdaudit.com
DTSTART;VALUE=DATE:20260924
DTEND;VALUE=DATE:20260926
DTSTAMP:20260303T044347Z
URL:https://mdaudit.com/events/nahri-national-association-of-healthcare-re
 venue-integrity-revenue-integrity-symposium-2/
SUMMARY:NAHRI (National Association of Healthcare Revenue Integrity) - Reve
 nue Integrity Symposium
DESCRIPTION:
ATTACH;FMTTYPE=image/jpeg:https://mdaudit.com/wp-content/uploads/2026/02/n
 ahri_logo.webp
LOCATION:Hyatt Regency Savannah\, 2 W. Bay Street\, Savannah\, Georgia\, Un
 ited States
GEO:32.081743;-81.091591
X-APPLE-STRUCTURED-LOCATION;VALUE=URI;X-ADDRESS=2 W. Bay Street\, Savannah\
 , Georgia\, United States;X-APPLE-RADIUS=100;X-TITLE=Hyatt Regency Savanna
 h:geo:32.081743,-81.091591
END:VEVENT
END:VCALENDAR