BEGIN:VCALENDAR
VERSION:2.0
PRODID:-//wp-events-plugin.com//7.2.3.1//EN
BEGIN:VEVENT
UID:57@mdaudit.com
DTSTART;VALUE=DATE:20260611
DTEND;VALUE=DATE:20260612
DTSTAMP:20260302T083737Z
URL:https://mdaudit.com/events/mahima/
SUMMARY:MaHIMA
DESCRIPTION:
ATTACH;FMTTYPE=image/jpeg:https://mdaudit.com/wp-content/uploads/2026/02/a
 hima_logo.webp
LOCATION:Hogan Campus Center\, 1 College St\, Worcester\, Massachusetts\, 0
 1610\, United States
GEO:42.236747;-71.810188
X-APPLE-STRUCTURED-LOCATION;VALUE=URI;X-ADDRESS=1 College St\, Worcester\, 
 Massachusetts\, 01610\, United States;X-APPLE-RADIUS=100;X-TITLE=Hogan Cam
 pus Center:geo:42.236747,-71.810188
END:VEVENT
END:VCALENDAR