BEGIN:VCALENDAR
VERSION:2.0
PRODID:-//wp-events-plugin.com//7.2.3.1//EN
BEGIN:VEVENT
UID:47@mdaudit.com
DTSTART;VALUE=DATE:20260427
DTEND;VALUE=DATE:20260428
DTSTAMP:20260211T035931Z
URL:https://mdaudit.com/events/ihima-2026-annual-meeting/
SUMMARY:IHIMA 2026 Annual Meeting
DESCRIPTION:
ATTACH;FMTTYPE=image/jpeg:https://mdaudit.com/wp-content/uploads/2026/02/a
 hima_logo.webp
LOCATION:FORUM Events Center\, 11313 USA Parkway\, Indianapolis\, Indiana\,
  46037\, United States
GEO:39.951162;-86.003152
X-APPLE-STRUCTURED-LOCATION;VALUE=URI;X-ADDRESS=11313 USA Parkway\, Indiana
 polis\, Indiana\, 46037\, United States;X-APPLE-RADIUS=100;X-TITLE=FORUM E
 vents Center:geo:39.951162,-86.003152
END:VEVENT
END:VCALENDAR