BEGIN:VCALENDAR
VERSION:2.0
PRODID:-//wp-events-plugin.com//7.2.3.1//EN
BEGIN:VEVENT
UID:4@mdaudit.com
DTSTART;VALUE=DATE:20250613
DTEND;VALUE=DATE:20250614
DTSTAMP:20250610T124615Z
URL:https://mdaudit.com/events/hcca-nyc/
SUMMARY:HCCA NYC
DESCRIPTION:As payer audits continue to rise\, our team will be ready to sh
 are how MDaudit equips compliance teams to work faster\, smarter\, and mor
 e strategically.
ATTACH;FMTTYPE=image/jpeg:https://mdaudit.com/wp-content/uploads/2025/06/h
 cca.jpg
CATEGORIES:Regional
LOCATION:Fordham University School of Law\, 150 West 62nd Street\, New York
 \, New York\, 10023\, United States
GEO:40.771628;-73.985302
X-APPLE-STRUCTURED-LOCATION;VALUE=URI;X-ADDRESS=150 West 62nd Street\, New 
 York\, New York\, 10023\, United States;X-APPLE-RADIUS=100;X-TITLE=Fordham
  University School of Law:geo:40.771628,-73.985302
END:VEVENT
END:VCALENDAR