BEGIN:VCALENDAR
VERSION:2.0
PRODID:-//wp-events-plugin.com//7.2.3.1//EN
BEGIN:VEVENT
UID:5@mdaudit.com
DTSTART;VALUE=DATE:20250626
DTEND;VALUE=DATE:20250627
DTSTAMP:20250610T125100Z
URL:https://mdaudit.com/events/hcca-michigan/
SUMMARY:HCCA Michigan
DESCRIPTION:Rounding out our regional events this month\, we’ll be in Ann
  Arbor for HCCA Michigan. If you’re looking to automate audit processes 
 and improve documentation accuracy\, MDaudit has the tools to help.
ATTACH;FMTTYPE=image/jpeg:https://mdaudit.com/wp-content/uploads/2025/06/h
 cca.jpg
CATEGORIES:Regional
LOCATION:The Kensington Hotel\, 3500 South State Street\, Ann Arbor\, Michi
 gan\, 48108\, United States
GEO:42.238817;-83.740782
X-APPLE-STRUCTURED-LOCATION;VALUE=URI;X-ADDRESS=3500 South State Street\, A
 nn Arbor\, Michigan\, 48108\, United States;X-APPLE-RADIUS=100;X-TITLE=The
  Kensington Hotel:geo:42.238817,-83.740782
END:VEVENT
END:VCALENDAR