BEGIN:VCALENDAR
VERSION:2.0
PRODID:-//wp-events-plugin.com//7.2.3.1//EN
BEGIN:VEVENT
UID:11@mdaudit.com
DTSTART;VALUE=DATE:20251017
DTEND;VALUE=DATE:20251018
DTSTAMP:20250610T141020Z
URL:https://mdaudit.com/events/hcca-denver/
SUMMARY:HCCA Denver
DESCRIPTION:
ATTACH;FMTTYPE=image/jpeg:https://mdaudit.com/wp-content/uploads/2025/06/h
 cca.jpg
CATEGORIES:Regional
LOCATION:The Westin Denver Downtown\, 1672 Lawrence Street\, Denver\, Color
 ado\, 80202\, United States
GEO:39.748851;-104.995479
X-APPLE-STRUCTURED-LOCATION;VALUE=URI;X-ADDRESS=1672 Lawrence Street\, Denv
 er\, Colorado\, 80202\, United States;X-APPLE-RADIUS=100;X-TITLE=The Westi
 n Denver Downtown:geo:39.748851,-104.995479
END:VEVENT
END:VCALENDAR