BEGIN:VCALENDAR
VERSION:2.0
PRODID:-//wp-events-plugin.com//7.2.3.1//EN
BEGIN:VEVENT
UID:55@mdaudit.com
DTSTART;VALUE=DATE:20260607
DTEND;VALUE=DATE:20260611
DTSTAMP:20260302T083117Z
URL:https://mdaudit.com/events/chiacon26/
SUMMARY:CHIACON26
DESCRIPTION:
ATTACH;FMTTYPE=image/jpeg:https://mdaudit.com/wp-content/uploads/2026/02/c
 hiacon_logo.webp
LOCATION:Hyatt Regency San Francisco Airport\, 1333 Old Bayshore Hwy\, Burl
 ingame\, California\, 94010\, United States
GEO:37.594461;-122.365932
X-APPLE-STRUCTURED-LOCATION;VALUE=URI;X-ADDRESS=1333 Old Bayshore Hwy\, Bur
 lingame\, California\, 94010\, United States;X-APPLE-RADIUS=100;X-TITLE=Hy
 att Regency San Francisco Airport:geo:37.594461,-122.365932
END:VEVENT
END:VCALENDAR