BEGIN:VCALENDAR
VERSION:2.0
PRODID:-//wp-events-plugin.com//7.2.3.1//EN
BEGIN:VEVENT
UID:50@mdaudit.com
DTSTART;VALUE=DATE:20260824
DTEND;VALUE=DATE:20260829
DTSTAMP:20260211T042918Z
URL:https://mdaudit.com/events/ahia-annual-conference-2/
SUMMARY:AHIA Annual Conference
DESCRIPTION:
ATTACH;FMTTYPE=image/jpeg:https://mdaudit.com/wp-content/uploads/2026/02/a
 hia_logo.webp
END:VEVENT
END:VCALENDAR