BEGIN:VCALENDAR
VERSION:2.0
PRODID:-//wp-events-plugin.com//7.2.3.1//EN
BEGIN:VEVENT
UID:41@mdaudit.com
DTSTART;VALUE=DATE:20260503
DTEND;VALUE=DATE:20260507
DTSTAMP:20260210T072731Z
URL:https://mdaudit.com/events/aapc-healthcon/
SUMMARY:AAPC Healthcon
DESCRIPTION:
ATTACH;FMTTYPE=image/jpeg:https://mdaudit.com/wp-content/uploads/2026/02/a
 apc_logo.webp
LOCATION:Gaylord Texan Resort & Convention Center\, 1501 Gaylord Trail\, Gr
 apevine\, Texas\, 76051\, United States
GEO:32.954751;-97.064306
X-APPLE-STRUCTURED-LOCATION;VALUE=URI;X-ADDRESS=1501 Gaylord Trail\, Grapev
 ine\, Texas\, 76051\, United States;X-APPLE-RADIUS=100;X-TITLE=Gaylord Tex
 an Resort & Convention Center:geo:32.954751,-97.064306
END:VEVENT
END:VCALENDAR